BEGIN:VCALENDAR
VERSION:2.0
PRODID:-//Feel the Music! - ECPv6.15.17.1//NONSGML v1.0//EN
CALSCALE:GREGORIAN
METHOD:PUBLISH
X-WR-CALNAME:Feel the Music!
X-ORIGINAL-URL:https://www.feelthemusic.org
X-WR-CALDESC:Events for Feel the Music!
REFRESH-INTERVAL;VALUE=DURATION:PT1H
X-Robots-Tag:noindex
X-PUBLISHED-TTL:PT1H
BEGIN:VTIMEZONE
TZID:America/Halifax
BEGIN:DAYLIGHT
TZOFFSETFROM:-0400
TZOFFSETTO:-0300
TZNAME:ADT
DTSTART:20160313T060000
END:DAYLIGHT
BEGIN:STANDARD
TZOFFSETFROM:-0300
TZOFFSETTO:-0400
TZNAME:AST
DTSTART:20161106T050000
END:STANDARD
BEGIN:DAYLIGHT
TZOFFSETFROM:-0400
TZOFFSETTO:-0300
TZNAME:ADT
DTSTART:20170312T060000
END:DAYLIGHT
BEGIN:STANDARD
TZOFFSETFROM:-0300
TZOFFSETTO:-0400
TZNAME:AST
DTSTART:20171105T050000
END:STANDARD
BEGIN:DAYLIGHT
TZOFFSETFROM:-0400
TZOFFSETTO:-0300
TZNAME:ADT
DTSTART:20180311T060000
END:DAYLIGHT
BEGIN:STANDARD
TZOFFSETFROM:-0300
TZOFFSETTO:-0400
TZNAME:AST
DTSTART:20181104T050000
END:STANDARD
END:VTIMEZONE
BEGIN:VEVENT
DTSTART;TZID=America/Halifax:20171011T100000
DTEND;TZID=America/Halifax:20171011T120000
DTSTAMP:20260421T132129
CREATED:20170909T010506Z
LAST-MODIFIED:20170909T010506Z
UID:3756-1507716000-1507723200@www.feelthemusic.org
SUMMARY:Feel the Music! for Kids Kicking Cancer w/Eleanor Dubinsky
DESCRIPTION:Feel the Music! singing and songwriting with Eleanor Dubinsky. Listen\, engage\, create! Children and teens sing along together with guitar and write their own songs. Participants learn melody\, phrasing\, vocalizing and improvise writing songs together. \nOpen to children/youth of all ages at Herbert Irving Children’s Oncology Center. \nThis program is supported\, in part\, by public funds from the New York City Department of Cultural Affairs in partnership with the City Council.
URL:https://www.feelthemusic.org/event/feel-the-music-for-kids-kicking-cancer-weleanor-dubinsky-12/
LOCATION:NY
END:VEVENT
BEGIN:VEVENT
DTSTART;TZID=America/Halifax:20171012T130000
DTEND;TZID=America/Halifax:20171012T140000
DTSTAMP:20260421T132129
CREATED:20171126T171818Z
LAST-MODIFIED:20171126T171818Z
UID:3787-1507813200-1507816800@www.feelthemusic.org
SUMMARY:Singin' Seniors Fall 2017
DESCRIPTION:Back by popular demand\, our Singin Seniors are continuing this winter at the Lenox Hill Neighborhood House at St. Peter’s Church. The Singin’ Seniors are soaring! \nHeld Thursdays at 1pm\, Feel the Music! singing classes will be held on the following dates with teaching artist/singer-songwriter Deborah Berg and accompanist Clare Cooper. \nCLASS DATES: Thursdays\, 1pm\, 10/12-12/14 \nFREE for participants. \nSinging Seniors is part of the Feel the Music! Creative Aging Program which is supported\, in part\, by public funds from the New York City Department of Cultural Affairs in partnership with the City Council\, the Lower Manhattan Cultural Council (LMCC) and individual donor
URL:https://www.feelthemusic.org/event/singin-seniors-fall-2017/
LOCATION:NY
END:VEVENT
BEGIN:VEVENT
DTSTART;TZID=America/Halifax:20171019T130000
DTEND;TZID=America/Halifax:20171019T140000
DTSTAMP:20260421T132129
CREATED:20171126T171956Z
LAST-MODIFIED:20171126T171956Z
UID:3789-1508418000-1508421600@www.feelthemusic.org
SUMMARY:Singin' Seniors Fall 2017
DESCRIPTION:Back by popular demand\, our Singin Seniors are continuing this winter at the Lenox Hill Neighborhood House at St. Peter’s Church. The Singin’ Seniors are soaring! \nHeld Thursdays at 1pm\, Feel the Music! singing classes will be held on the following dates with teaching artist/singer-songwriter Deborah Berg and accompanist Clare Cooper. \nCLASS DATES: Thursdays\, 1pm\, 10/12-12/14 \nFREE for participants. \nSinging Seniors is part of the Feel the Music! Creative Aging Program which is supported\, in part\, by public funds from the New York City Department of Cultural Affairs in partnership with the City Council\, the Lower Manhattan Cultural Council (LMCC) and individual donors.
URL:https://www.feelthemusic.org/event/singin-seniors-fall-2017-2/
LOCATION:NY
END:VEVENT
BEGIN:VEVENT
DTSTART;TZID=America/Halifax:20171020T100000
DTEND;TZID=America/Halifax:20171020T120000
DTSTAMP:20260421T132129
CREATED:20170909T010027Z
LAST-MODIFIED:20170909T010027Z
UID:3750-1508493600-1508500800@www.feelthemusic.org
SUMMARY:Feel the Music! for Kids Kicking Cancer w/Mary Lee Kortes
DESCRIPTION:Feel the Music! singing and songwriting with Mary Lee Kortes. Listen\, engage\, create! Children and teens sing along together with guitar and write their own songs. Participants learn melody\, phrasing\, vocalizing and improvise writing songs together. \nOpen to children/youth of all ages at Herbert Irving Children’s Oncology Center. \nThis program is supported\, in part\, by public funds from the New York City Department of Cultural Affairs in partnership with the City Council.
URL:https://www.feelthemusic.org/event/feel-the-music-for-kids-kicking-cancer-wmary-lee-kortes-19/
LOCATION:NY
END:VEVENT
BEGIN:VEVENT
DTSTART;TZID=America/Halifax:20171021T173000
DTEND;TZID=America/Halifax:20171021T193000
DTSTAMP:20260421T132129
CREATED:20171126T171158Z
LAST-MODIFIED:20171126T171158Z
UID:3781-1508607000-1508614200@www.feelthemusic.org
SUMMARY:First Saturdays: Singing and More w/Janice Pendarvis!
DESCRIPTION:We are so pleased to announce that Feel the Music! teaching artist and renowned singer/songwriter Janice Pendarvis will be leading singing workshops the first Saturday of each month\, at the new location of our partner\, Bailey’s Cafe! \nFREE and OPEN to the public\, please come and join us for Good Music\, Good Conversation\, Good Food and BIG FUN! \nFeel the Music! at Bailey’s Cafe: Two generations making music and art together. Building community. Learning new skills. Strengthening connections. Creating together. Having fun! \n324 Malcolm X Boulevard\nBrooklyn\, NY 11233\n5:30pm
URL:https://www.feelthemusic.org/event/first-saturdays-singing-and-more-w-janice-pendarvis/
LOCATION:NY
END:VEVENT
BEGIN:VEVENT
DTSTART;TZID=America/Halifax:20171023T130000
DTEND;TZID=America/Halifax:20171023T140000
DTSTAMP:20260421T132129
CREATED:20171126T173118Z
LAST-MODIFIED:20171126T173118Z
UID:3808-1508763600-1508767200@www.feelthemusic.org
SUMMARY:Drumming Seniors at St. Peter’s Church w/ Gary Fritz – Fall 2017
DESCRIPTION:DRUMMING SENIORS!! Back by popular demand: World renowned percussionist Gary Fritz comes  to St. Peter’s Church for a Feel the Music! percussion workshop series for seniors at Lenox Hill House at St. Peter’s Church. \nClasses will be held Monday\, 10/23 – Monday\, 12/4\, 2017 from 2pm-3pm. \nOpen to all participants of Lenox Hill Neighborhood House. \nJOINT CONCERT (w/Singin’ Seniors): Friday\, 12/15\, 1pm \nWHERE: Lenox Hill Neighborhood House at St. Peter’s Church \nADDRESS: 619 Lexington Ave at 53rd Street\, NYC \nThis program is supported\, in part\, by public funds from the New York City Department of Cultural Affairs in partnership with the City Council\, the Lower Manhattan Cultural Council (LMCC) and individual donors. Thank you for your support!
URL:https://www.feelthemusic.org/event/drumming-seniors-at-st-peters-church-w-gary-fritz-fall-2017/
LOCATION:NY
END:VEVENT
BEGIN:VEVENT
DTSTART;TZID=America/Halifax:20171025T100000
DTEND;TZID=America/Halifax:20171025T120000
DTSTAMP:20260421T132129
CREATED:20170909T010545Z
LAST-MODIFIED:20170909T010545Z
UID:3758-1508925600-1508932800@www.feelthemusic.org
SUMMARY:Feel the Music! for Kids Kicking Cancer w/Eleanor Dubinsky
DESCRIPTION:Feel the Music! singing and songwriting with Eleanor Dubinsky. Listen\, engage\, create! Children and teens sing along together with guitar and write their own songs. Participants learn melody\, phrasing\, vocalizing and improvise writing songs together. \nOpen to children/youth of all ages at Herbert Irving Children’s Oncology Center. \nThis program is supported\, in part\, by public funds from the New York City Department of Cultural Affairs in partnership with the City Council.
URL:https://www.feelthemusic.org/event/feel-the-music-for-kids-kicking-cancer-weleanor-dubinsky-13/
LOCATION:NY
END:VEVENT
BEGIN:VEVENT
DTSTART;TZID=America/Halifax:20171026T130000
DTEND;TZID=America/Halifax:20171026T140000
DTSTAMP:20260421T132129
CREATED:20171126T172052Z
LAST-MODIFIED:20171126T172052Z
UID:3792-1509022800-1509026400@www.feelthemusic.org
SUMMARY:Singin' Seniors Fall 2017
DESCRIPTION:Back by popular demand\, our Singin Seniors are continuing this winter at the Lenox Hill Neighborhood House at St. Peter’s Church. The Singin’ Seniors are soaring! \nHeld Thursdays at 1pm\, Feel the Music! singing classes will be held on the following dates with teaching artist/singer-songwriter Deborah Berg and accompanist Clare Cooper. \nCLASS DATES: Thursdays\, 1pm\, 10/12-12/14 \nFREE for participants. \nSinging Seniors is part of the Feel the Music! Creative Aging Program which is supported\, in part\, by public funds from the New York City Department of Cultural Affairs in partnership with the City Council\, the Lower Manhattan Cultural Council (LMCC) and individual donors.
URL:https://www.feelthemusic.org/event/singin-seniors-fall-2017-3/
LOCATION:NY
END:VEVENT
BEGIN:VEVENT
DTSTART;TZID=America/Halifax:20171030T130000
DTEND;TZID=America/Halifax:20171030T140000
DTSTAMP:20260421T132129
CREATED:20171126T173207Z
LAST-MODIFIED:20171126T173207Z
UID:3810-1509368400-1509372000@www.feelthemusic.org
SUMMARY:Drumming Seniors at St. Peter’s Church w/ Gary Fritz – Fall 2017
DESCRIPTION:DRUMMING SENIORS!! Back by popular demand: World renowned percussionist Gary Fritz comes  to St. Peter’s Church for a Feel the Music! percussion workshop series for seniors at Lenox Hill House at St. Peter’s Church. \nClasses will be held Monday\, 10/23 – Monday\, 12/4\, 2017 from 2pm-3pm. \nOpen to all participants of Lenox Hill Neighborhood House. \nJOINT CONCERT (w/Singin’ Seniors): Friday\, 12/15\, 1pm \nWHERE: Lenox Hill Neighborhood House at St. Peter’s Church \nADDRESS: 619 Lexington Ave at 53rd Street\, NYC \nThis program is supported\, in part\, by public funds from the New York City Department of Cultural Affairs in partnership with the City Council\, the Lower Manhattan Cultural Council (LMCC) and individual donors. Thank you for your support!
URL:https://www.feelthemusic.org/event/drumming-seniors-at-st-peters-church-w-gary-fritz-fall-2017-2/
LOCATION:NY
END:VEVENT
END:VCALENDAR