BEGIN:VCALENDAR
VERSION:2.0
PRODID:-//Feel the Music! - ECPv6.15.17.1//NONSGML v1.0//EN
CALSCALE:GREGORIAN
METHOD:PUBLISH
X-WR-CALNAME:Feel the Music!
X-ORIGINAL-URL:https://www.feelthemusic.org
X-WR-CALDESC:Events for Feel the Music!
REFRESH-INTERVAL;VALUE=DURATION:PT1H
X-Robots-Tag:noindex
X-PUBLISHED-TTL:PT1H
BEGIN:VTIMEZONE
TZID:America/Halifax
BEGIN:DAYLIGHT
TZOFFSETFROM:-0400
TZOFFSETTO:-0300
TZNAME:ADT
DTSTART:20170312T060000
END:DAYLIGHT
BEGIN:STANDARD
TZOFFSETFROM:-0300
TZOFFSETTO:-0400
TZNAME:AST
DTSTART:20171105T050000
END:STANDARD
BEGIN:DAYLIGHT
TZOFFSETFROM:-0400
TZOFFSETTO:-0300
TZNAME:ADT
DTSTART:20180311T060000
END:DAYLIGHT
BEGIN:STANDARD
TZOFFSETFROM:-0300
TZOFFSETTO:-0400
TZNAME:AST
DTSTART:20181104T050000
END:STANDARD
BEGIN:DAYLIGHT
TZOFFSETFROM:-0400
TZOFFSETTO:-0300
TZNAME:ADT
DTSTART:20190310T060000
END:DAYLIGHT
BEGIN:STANDARD
TZOFFSETFROM:-0300
TZOFFSETTO:-0400
TZNAME:AST
DTSTART:20191103T050000
END:STANDARD
END:VTIMEZONE
BEGIN:VEVENT
DTSTART;TZID=America/Halifax:20180602T173000
DTEND;TZID=America/Halifax:20180602T193000
DTSTAMP:20260422T013946
CREATED:20180710T160127Z
LAST-MODIFIED:20180710T160127Z
UID:3945-1527960600-1527967800@www.feelthemusic.org
SUMMARY:First Saturdays: Singing and More w/Janice Pendarvis!
DESCRIPTION:We are so pleased to announce that Feel the Music! teaching artist and renowned singer/songwriter Janice Pendarvis will be leading singing workshops the first Saturday of each month\, at the new location of our partner\, Bailey’s Cafe! \nFREE and OPEN to the public\, please come and join us for Good Music\, Good Conversation\, Good Food and BIG FUN! \nFeel the Music! at Bailey’s Cafe: Two generations making music and art together. Building community. Learning new skills. Strengthening connections. Creating together. Having fun! \n324 Malcolm X Boulevard\nBrooklyn\, NY 11233\n5:30pm
URL:https://www.feelthemusic.org/event/first-saturdays-singing-and-more-w-janice-pendarvis-8/
LOCATION:NY
END:VEVENT
BEGIN:VEVENT
DTSTART;TZID=America/Halifax:20180606T100000
DTEND;TZID=America/Halifax:20180606T110000
DTSTAMP:20260422T013946
CREATED:20180607T201839Z
LAST-MODIFIED:20180607T201839Z
UID:3929-1528279200-1528282800@www.feelthemusic.org
SUMMARY:Drumming Seniors at Project Find w/ Bashiri Johnson – Spring 2018
DESCRIPTION:DRUMMING SENIORS!! Back by popular demand: World renowned percussionist Bashiri Johnson returns to Project FIND’s Hamilton House Senior Center for our popular Feel the Music! percussion workshop series for seniors! \nClasses will be held 4/4-6/3 2018 from 10:15-11:15am. \nClasses open to all seniors served by Project Find. \nCulminating in a public concert June 10! Come one come all! \nThis program is supported\, in part\, by public funds from the New York City Department of Cultural Affairs in partnership with the City Council\, the Lower Manhattan Cultural Council (LMCC) and individual donors. Thank you for your support!
URL:https://www.feelthemusic.org/event/drumming-seniors-at-project-find-w-bashiri-johnson-spring-2018-11/
LOCATION:NY
END:VEVENT
BEGIN:VEVENT
DTSTART;TZID=America/Halifax:20180614T110000
DTEND;TZID=America/Halifax:20180614T130000
DTSTAMP:20260422T013946
CREATED:20180710T162936Z
LAST-MODIFIED:20180710T162936Z
UID:3976-1528974000-1528981200@www.feelthemusic.org
SUMMARY:Feel the Music! for Kids Kicking Cancer w/Mary Lee Kortes
DESCRIPTION:Feel the Music! singing and songwriting with Mary Lee Kortes. Listen\, engage\, create! Children and teens sing along together with guitar and write their own songs. Participants learn melody\, phrasing\, vocalizing and improvise writing songs together. \nOpen to children/youth of all ages at Herbert Irving Children’s Oncology Center. \nThis program is supported\, in part\, by public funds from the New York City Department of Cultural Affairs in partnership with the City Council.
URL:https://www.feelthemusic.org/event/feel-the-music-for-kids-kicking-cancer-w-mary-lee-kortes-6/
LOCATION:NY
END:VEVENT
BEGIN:VEVENT
DTSTART;TZID=America/Halifax:20180620T140000
DTEND;TZID=America/Halifax:20180620T150000
DTSTAMP:20260422T013946
CREATED:20180607T202026Z
LAST-MODIFIED:20180607T202026Z
UID:3931-1529503200-1529506800@www.feelthemusic.org
SUMMARY:Feel the Music! Jammin' Drummers CONCERT at Project Find
DESCRIPTION:Join us as we celebrate the talented Jammin’ Drummers of Project Find Hamilton House Senior Center in their spring concert\, led by teaching artist Bashiri Johnson! \nCONCERT: June 20\, 2018 at 2pm \nFREE \nJammin’ Drummers is part of the Feel the Music! Creative Aging Program which is supported\, in part\, by public funds from the New York City Department of Cultural Affairs in partnership with the City Council\, the Lower Manhattan Cultural Council (LMCC) and individual donors. Thank you for your support!
URL:https://www.feelthemusic.org/event/feel-the-music-jammin-drummers-concert-at-project-find-3/
LOCATION:NY
END:VEVENT
BEGIN:VEVENT
DTSTART;TZID=America/Halifax:20180628T110000
DTEND;TZID=America/Halifax:20180628T130000
DTSTAMP:20260422T013946
CREATED:20180710T163005Z
LAST-MODIFIED:20180710T163005Z
UID:3978-1530183600-1530190800@www.feelthemusic.org
SUMMARY:Feel the Music! for Kids Kicking Cancer w/Mary Lee Kortes
DESCRIPTION:Feel the Music! singing and songwriting with Mary Lee Kortes. Listen\, engage\, create! Children and teens sing along together with guitar and write their own songs. Participants learn melody\, phrasing\, vocalizing and improvise writing songs together. \nOpen to children/youth of all ages at Herbert Irving Children’s Oncology Center. \nThis program is supported\, in part\, by public funds from the New York City Department of Cultural Affairs in partnership with the City Council.
URL:https://www.feelthemusic.org/event/feel-the-music-for-kids-kicking-cancer-w-mary-lee-kortes-7/
LOCATION:NY
END:VEVENT
END:VCALENDAR